BEGIN:VCALENDAR
VERSION:2.0
PRODID:-//Our Lady of Mt. Carmel - ECPv6.15.20//NONSGML v1.0//EN
CALSCALE:GREGORIAN
METHOD:PUBLISH
X-ORIGINAL-URL:https://www.olmcelmsford.com
X-WR-CALDESC:Events for Our Lady of Mt. Carmel
REFRESH-INTERVAL;VALUE=DURATION:PT1H
X-Robots-Tag:noindex
X-PUBLISHED-TTL:PT1H
BEGIN:VTIMEZONE
TZID:America/New_York
BEGIN:DAYLIGHT
TZOFFSETFROM:-0500
TZOFFSETTO:-0400
TZNAME:EDT
DTSTART:20230312T070000
END:DAYLIGHT
BEGIN:STANDARD
TZOFFSETFROM:-0400
TZOFFSETTO:-0500
TZNAME:EST
DTSTART:20231105T060000
END:STANDARD
BEGIN:DAYLIGHT
TZOFFSETFROM:-0500
TZOFFSETTO:-0400
TZNAME:EDT
DTSTART:20240310T070000
END:DAYLIGHT
BEGIN:STANDARD
TZOFFSETFROM:-0400
TZOFFSETTO:-0500
TZNAME:EST
DTSTART:20241103T060000
END:STANDARD
BEGIN:DAYLIGHT
TZOFFSETFROM:-0500
TZOFFSETTO:-0400
TZNAME:EDT
DTSTART:20250309T070000
END:DAYLIGHT
BEGIN:STANDARD
TZOFFSETFROM:-0400
TZOFFSETTO:-0500
TZNAME:EST
DTSTART:20251102T060000
END:STANDARD
END:VTIMEZONE
BEGIN:VEVENT
DTSTART;TZID=America/New_York:20241220T080000
DTEND;TZID=America/New_York:20241220T120000
DTSTAMP:20260424T234621
CREATED:20241202T161738Z
LAST-MODIFIED:20241202T161738Z
UID:5186-1734681600-1734696000@www.olmcelmsford.com
SUMMARY:Early Dismal (Recess begins)
DESCRIPTION:
URL:https://www.olmcelmsford.com/event/early-dismal-recess-begins/
END:VEVENT
BEGIN:VEVENT
DTSTART;TZID=America/New_York:20241219T190000
DTEND;TZID=America/New_York:20241219T223000
DTSTAMP:20260424T234621
CREATED:20241202T164327Z
LAST-MODIFIED:20241202T164327Z
UID:5195-1734634800-1734647400@www.olmcelmsford.com
SUMMARY:Bingo
DESCRIPTION:
URL:https://www.olmcelmsford.com/event/bingo-61/
END:VEVENT
BEGIN:VEVENT
DTSTART;TZID=America/New_York:20241218T090000
DTEND;TZID=America/New_York:20241218T110000
DTSTAMP:20260424T234621
CREATED:20241202T161423Z
LAST-MODIFIED:20241202T161423Z
UID:5182-1734512400-1734519600@www.olmcelmsford.com
SUMMARY:Band Concert
DESCRIPTION:
URL:https://www.olmcelmsford.com/event/band-concert-2/
END:VEVENT
BEGIN:VEVENT
DTSTART;TZID=America/New_York:20241217T080000
DTEND;TZID=America/New_York:20241217T143000
DTSTAMP:20260424T234621
CREATED:20241202T161215Z
LAST-MODIFIED:20241202T161215Z
UID:5178-1734422400-1734445800@www.olmcelmsford.com
SUMMARY:Student Pancake Breakfast
DESCRIPTION:
URL:https://www.olmcelmsford.com/event/student-pancake-breakfast-13/
END:VEVENT
BEGIN:VEVENT
DTSTART;TZID=America/New_York:20241216T080000
DTEND;TZID=America/New_York:20241216T143000
DTSTAMP:20260424T234621
CREATED:20241202T161026Z
LAST-MODIFIED:20241202T161026Z
UID:5176-1734336000-1734359400@www.olmcelmsford.com
SUMMARY:$2 Dress Down
DESCRIPTION:
URL:https://www.olmcelmsford.com/event/2-dress-down-19/
END:VEVENT
BEGIN:VEVENT
DTSTART;TZID=America/New_York:20241212T080000
DTEND;TZID=America/New_York:20241212T143000
DTSTAMP:20260424T234621
CREATED:20241202T160928Z
LAST-MODIFIED:20241202T160928Z
UID:5174-1733990400-1734013800@www.olmcelmsford.com
SUMMARY:Bake Sale
DESCRIPTION:Sponsored by Grade 5
URL:https://www.olmcelmsford.com/event/bake-sale-10/
END:VEVENT
BEGIN:VEVENT
DTSTART;TZID=America/New_York:20241211T080000
DTEND;TZID=America/New_York:20241211T143000
DTSTAMP:20260424T234621
CREATED:20241202T160843Z
LAST-MODIFIED:20241202T160843Z
UID:5172-1733904000-1733927400@www.olmcelmsford.com
SUMMARY:$2 Dress Down
DESCRIPTION:
URL:https://www.olmcelmsford.com/event/2-dress-down-18/
END:VEVENT
BEGIN:VEVENT
DTSTART;TZID=America/New_York:20241210T190000
DTEND;TZID=America/New_York:20241210T220000
DTSTAMP:20260424T234621
CREATED:20241202T160804Z
LAST-MODIFIED:20241202T160804Z
UID:5170-1733857200-1733868000@www.olmcelmsford.com
SUMMARY:Bingo
DESCRIPTION:
URL:https://www.olmcelmsford.com/event/bingo-60/
END:VEVENT
BEGIN:VEVENT
DTSTART;TZID=America/New_York:20241209T090000
DTEND;TZID=America/New_York:20241209T100000
DTSTAMP:20260424T234621
CREATED:20241202T160615Z
LAST-MODIFIED:20241202T160615Z
UID:5166-1733734800-1733738400@www.olmcelmsford.com
SUMMARY:Feast of the Immaculate Conception
DESCRIPTION:
URL:https://www.olmcelmsford.com/event/feast-of-the-immaculate-conception/
END:VEVENT
BEGIN:VEVENT
DTSTART;TZID=America/New_York:20241208T080000
DTEND;TZID=America/New_York:20241208T130000
DTSTAMP:20260424T234621
CREATED:20241202T160530Z
LAST-MODIFIED:20241202T160530Z
UID:5164-1733644800-1733662800@www.olmcelmsford.com
SUMMARY:Winter Carnival
DESCRIPTION:
URL:https://www.olmcelmsford.com/event/winter-carnival-2/
END:VEVENT
BEGIN:VEVENT
DTSTART;TZID=America/New_York:20241207T160000
DTEND;TZID=America/New_York:20241207T180000
DTSTAMP:20260424T234621
CREATED:20241202T160445Z
LAST-MODIFIED:20241202T160445Z
UID:5162-1733587200-1733594400@www.olmcelmsford.com
SUMMARY:Winter Carnival
DESCRIPTION:
URL:https://www.olmcelmsford.com/event/winter-carnival/
END:VEVENT
BEGIN:VEVENT
DTSTART;TZID=America/New_York:20241206T090000
DTEND;TZID=America/New_York:20241206T233000
DTSTAMP:20260424T234621
CREATED:20241202T160328Z
LAST-MODIFIED:20241202T160328Z
UID:5160-1733475600-1733527800@www.olmcelmsford.com
SUMMARY:Children's Carnival Day
DESCRIPTION:
URL:https://www.olmcelmsford.com/event/childrens-carnival-day-2/
END:VEVENT
BEGIN:VEVENT
DTSTART;TZID=America/New_York:20241206T080000
DTEND;TZID=America/New_York:20241206T120000
DTSTAMP:20260424T234621
CREATED:20241202T160245Z
LAST-MODIFIED:20241202T160355Z
UID:5158-1733472000-1733486400@www.olmcelmsford.com
SUMMARY:Early Dismissal
DESCRIPTION:
URL:https://www.olmcelmsford.com/event/early-dismissal-12/
END:VEVENT
BEGIN:VEVENT
DTSTART;TZID=America/New_York:20241205T070000
DTEND;TZID=America/New_York:20241205T223000
DTSTAMP:20260424T234621
CREATED:20241202T164100Z
LAST-MODIFIED:20241202T164100Z
UID:5193-1733382000-1733437800@www.olmcelmsford.com
SUMMARY:No Bingo
DESCRIPTION:
URL:https://www.olmcelmsford.com/event/no-bingo/
END:VEVENT
BEGIN:VEVENT
DTSTART;TZID=America/New_York:20241202T080000
DTEND;TZID=America/New_York:20241202T143000
DTSTAMP:20260424T234621
CREATED:20241202T160140Z
LAST-MODIFIED:20241202T163951Z
UID:5156-1733126400-1733149800@www.olmcelmsford.com
SUMMARY:$2 Dress Down
DESCRIPTION:
URL:https://www.olmcelmsford.com/event/2-dress-down-17/
END:VEVENT
BEGIN:VEVENT
DTSTART;TZID=America/New_York:20241202T080000
DTEND;TZID=America/New_York:20241202T143000
DTSTAMP:20260424T234621
CREATED:20241202T155929Z
LAST-MODIFIED:20241202T155929Z
UID:5154-1733126400-1733149800@www.olmcelmsford.com
SUMMARY:School Resumes
DESCRIPTION:
URL:https://www.olmcelmsford.com/event/school-resumes/
END:VEVENT
BEGIN:VEVENT
DTSTART;TZID=America/New_York:20241031T190000
DTEND;TZID=America/New_York:20241031T220000
DTSTAMP:20260424T234621
CREATED:20241002T001127Z
LAST-MODIFIED:20241002T001127Z
UID:5132-1730401200-1730412000@www.olmcelmsford.com
SUMMARY:Bingo
DESCRIPTION:
URL:https://www.olmcelmsford.com/event/bingo-59/
END:VEVENT
BEGIN:VEVENT
DTSTART;TZID=America/New_York:20241031T100000
DTEND;TZID=America/New_York:20241031T123000
DTSTAMP:20260424T234621
CREATED:20241002T001057Z
LAST-MODIFIED:20241002T001057Z
UID:5130-1730368800-1730377800@www.olmcelmsford.com
SUMMARY:Halloween Parade
DESCRIPTION:
URL:https://www.olmcelmsford.com/event/halloween-parade/
END:VEVENT
BEGIN:VEVENT
DTSTART;TZID=America/New_York:20241028T080000
DTEND;TZID=America/New_York:20241028T143000
DTSTAMP:20260424T234621
CREATED:20241002T001020Z
LAST-MODIFIED:20241002T001020Z
UID:5128-1730102400-1730125800@www.olmcelmsford.com
SUMMARY:$2 Dress Down
DESCRIPTION:
URL:https://www.olmcelmsford.com/event/2-dress-down-16/
END:VEVENT
BEGIN:VEVENT
DTSTART;TZID=America/New_York:20241024T190000
DTEND;TZID=America/New_York:20241024T220000
DTSTAMP:20260424T234621
CREATED:20241002T000931Z
LAST-MODIFIED:20241002T000931Z
UID:5126-1729796400-1729807200@www.olmcelmsford.com
SUMMARY:Bingo
DESCRIPTION:
URL:https://www.olmcelmsford.com/event/bingo-58/
END:VEVENT
BEGIN:VEVENT
DTSTART;TZID=America/New_York:20241021T080000
DTEND;TZID=America/New_York:20241021T143000
DTSTAMP:20260424T234621
CREATED:20241002T000838Z
LAST-MODIFIED:20241002T000838Z
UID:5124-1729497600-1729521000@www.olmcelmsford.com
SUMMARY:$2 Dress Down
DESCRIPTION:
URL:https://www.olmcelmsford.com/event/2-dress-down-15/
END:VEVENT
BEGIN:VEVENT
DTSTART;TZID=America/New_York:20241019T070000
DTEND;TZID=America/New_York:20241019T090000
DTSTAMP:20260424T234621
CREATED:20241002T000745Z
LAST-MODIFIED:20241002T000745Z
UID:5122-1729321200-1729328400@www.olmcelmsford.com
SUMMARY:Applebee's Pancake Fundraiser
DESCRIPTION:
URL:https://www.olmcelmsford.com/event/applebees-pancake-fundraiser/
END:VEVENT
BEGIN:VEVENT
DTSTART;TZID=America/New_York:20241018T190000
DTEND;TZID=America/New_York:20241018T213000
DTSTAMP:20260424T234621
CREATED:20241002T000603Z
LAST-MODIFIED:20241002T000603Z
UID:5120-1729278000-1729287000@www.olmcelmsford.com
SUMMARY:Adult Paint Night
DESCRIPTION:
URL:https://www.olmcelmsford.com/event/adult-paint-night/
END:VEVENT
BEGIN:VEVENT
DTSTART;TZID=America/New_York:20241017T190000
DTEND;TZID=America/New_York:20241017T220000
DTSTAMP:20260424T234621
CREATED:20241002T000515Z
LAST-MODIFIED:20241002T000515Z
UID:5118-1729191600-1729202400@www.olmcelmsford.com
SUMMARY:Bingo
DESCRIPTION:
URL:https://www.olmcelmsford.com/event/bingo-57/
END:VEVENT
BEGIN:VEVENT
DTSTART;TZID=America/New_York:20241016T083000
DTEND;TZID=America/New_York:20241016T083000
DTSTAMP:20260424T234621
CREATED:20241002T000431Z
LAST-MODIFIED:20241002T000431Z
UID:5116-1729067400-1729067400@www.olmcelmsford.com
SUMMARY:Delayed Opening
DESCRIPTION:
URL:https://www.olmcelmsford.com/event/delayed-opening-5/
END:VEVENT
BEGIN:VEVENT
DTSTART;TZID=America/New_York:20241015T080000
DTEND;TZID=America/New_York:20241015T093000
DTSTAMP:20260424T234621
CREATED:20241002T000352Z
LAST-MODIFIED:20241002T000352Z
UID:5114-1728979200-1728984600@www.olmcelmsford.com
SUMMARY:Student Pancake Breakfast
DESCRIPTION:
URL:https://www.olmcelmsford.com/event/student-pancake-breakfast-12/
END:VEVENT
BEGIN:VEVENT
DTSTART;TZID=America/New_York:20241014T080000
DTEND;TZID=America/New_York:20241014T143000
DTSTAMP:20260424T234621
CREATED:20241002T000308Z
LAST-MODIFIED:20241002T000308Z
UID:5112-1728892800-1728916200@www.olmcelmsford.com
SUMMARY:No School
DESCRIPTION:Columbus Day
URL:https://www.olmcelmsford.com/event/no-school-2/
END:VEVENT
BEGIN:VEVENT
DTSTART;TZID=America/New_York:20241011T080000
DTEND;TZID=America/New_York:20241011T143000
DTSTAMP:20260424T234621
CREATED:20241002T000225Z
LAST-MODIFIED:20241002T000225Z
UID:5110-1728633600-1728657000@www.olmcelmsford.com
SUMMARY:No School
DESCRIPTION:Data Day
URL:https://www.olmcelmsford.com/event/no-school/
END:VEVENT
BEGIN:VEVENT
DTSTART;TZID=America/New_York:20241010T190000
DTEND;TZID=America/New_York:20241010T220000
DTSTAMP:20260424T234621
CREATED:20241002T000141Z
LAST-MODIFIED:20241002T000141Z
UID:5108-1728586800-1728597600@www.olmcelmsford.com
SUMMARY:Bingo
DESCRIPTION:
URL:https://www.olmcelmsford.com/event/bingo-56/
END:VEVENT
BEGIN:VEVENT
DTSTART;TZID=America/New_York:20241008T100000
DTEND;TZID=America/New_York:20241008T110000
DTSTAMP:20260424T234621
CREATED:20241002T000048Z
LAST-MODIFIED:20241002T000111Z
UID:5106-1728381600-1728385200@www.olmcelmsford.com
SUMMARY:Birthday Mass
DESCRIPTION:
URL:https://www.olmcelmsford.com/event/birthday-mass-12/
END:VEVENT
END:VCALENDAR