BEGIN:VCALENDAR
VERSION:2.0
PRODID:-//Our Lady of Mt. Carmel - ECPv6.15.20//NONSGML v1.0//EN
CALSCALE:GREGORIAN
METHOD:PUBLISH
X-ORIGINAL-URL:https://www.olmcelmsford.com
X-WR-CALDESC:Events for Our Lady of Mt. Carmel
REFRESH-INTERVAL;VALUE=DURATION:PT1H
X-Robots-Tag:noindex
X-PUBLISHED-TTL:PT1H
BEGIN:VTIMEZONE
TZID:America/New_York
BEGIN:DAYLIGHT
TZOFFSETFROM:-0500
TZOFFSETTO:-0400
TZNAME:EDT
DTSTART:20230312T070000
END:DAYLIGHT
BEGIN:STANDARD
TZOFFSETFROM:-0400
TZOFFSETTO:-0500
TZNAME:EST
DTSTART:20231105T060000
END:STANDARD
BEGIN:DAYLIGHT
TZOFFSETFROM:-0500
TZOFFSETTO:-0400
TZNAME:EDT
DTSTART:20240310T070000
END:DAYLIGHT
BEGIN:STANDARD
TZOFFSETFROM:-0400
TZOFFSETTO:-0500
TZNAME:EST
DTSTART:20241103T060000
END:STANDARD
BEGIN:DAYLIGHT
TZOFFSETFROM:-0500
TZOFFSETTO:-0400
TZNAME:EDT
DTSTART:20250309T070000
END:DAYLIGHT
BEGIN:STANDARD
TZOFFSETFROM:-0400
TZOFFSETTO:-0500
TZNAME:EST
DTSTART:20251102T060000
END:STANDARD
END:VTIMEZONE
BEGIN:VEVENT
DTSTART;VALUE=DATE:20240621
DTEND;VALUE=DATE:20240622
DTSTAMP:20260425T123554
CREATED:20240529T165531Z
LAST-MODIFIED:20240529T165704Z
UID:5034-1718928000-1719014399@www.olmcelmsford.com
SUMMARY:Last Day Report Cards
DESCRIPTION:
URL:https://www.olmcelmsford.com/event/last-day-report-cards/
END:VEVENT
BEGIN:VEVENT
DTSTART;TZID=America/New_York:20240620T190000
DTEND;TZID=America/New_York:20240620T220000
DTSTAMP:20260425T123554
CREATED:20240529T165443Z
LAST-MODIFIED:20240529T165443Z
UID:5030-1718910000-1718920800@www.olmcelmsford.com
SUMMARY:Bingo
DESCRIPTION:
URL:https://www.olmcelmsford.com/event/bingo-54/
END:VEVENT
BEGIN:VEVENT
DTSTART;VALUE=DATE:20240620
DTEND;VALUE=DATE:20240621
DTSTAMP:20260425T123554
CREATED:20240529T165414Z
LAST-MODIFIED:20240529T165414Z
UID:5028-1718841600-1718927999@www.olmcelmsford.com
SUMMARY:Last Day of Lunch
DESCRIPTION:
URL:https://www.olmcelmsford.com/event/last-day-of-lunch/
END:VEVENT
BEGIN:VEVENT
DTSTART;VALUE=DATE:20240619
DTEND;VALUE=DATE:20240620
DTSTAMP:20260425T123554
CREATED:20240529T165259Z
LAST-MODIFIED:20240529T165306Z
UID:5024-1718755200-1718841599@www.olmcelmsford.com
SUMMARY:School Closed
DESCRIPTION:S
URL:https://www.olmcelmsford.com/event/school-closed-11/
END:VEVENT
BEGIN:VEVENT
DTSTART;TZID=America/New_York:20240618T180000
DTEND;TZID=America/New_York:20240618T220000
DTSTAMP:20260425T123554
CREATED:20240529T164617Z
LAST-MODIFIED:20240529T170835Z
UID:5007-1718733600-1718748000@www.olmcelmsford.com
SUMMARY:8th Grade Prom
DESCRIPTION:8th Grade \n200 Knollwood Road Extention\, Elmsford
URL:https://www.olmcelmsford.com/event/prom/
END:VEVENT
BEGIN:VEVENT
DTSTART;TZID=America/New_York:20240617T193000
DTEND;TZID=America/New_York:20240617T203000
DTSTAMP:20260425T123554
CREATED:20240529T165235Z
LAST-MODIFIED:20240529T165235Z
UID:5022-1718652600-1718656200@www.olmcelmsford.com
SUMMARY:PK4 Graduation
DESCRIPTION:
URL:https://www.olmcelmsford.com/event/pk4-graduation/
LOCATION:Our Lady of Mt. Carmel\, 59 East Main Street\, Elmsford\, 10523\, United States
END:VEVENT
BEGIN:VEVENT
DTSTART;TZID=America/New_York:20240617T183000
DTEND;TZID=America/New_York:20240617T193000
DTSTAMP:20260425T123554
CREATED:20240529T165156Z
LAST-MODIFIED:20240529T165156Z
UID:5020-1718649000-1718652600@www.olmcelmsford.com
SUMMARY:PK 3 End of Year Ceremony
DESCRIPTION:
URL:https://www.olmcelmsford.com/event/pk-3-end-of-year-ceremony/
LOCATION:Our Lady of Mt. Carmel\, 59 East Main Street\, Elmsford\, 10523\, United States
END:VEVENT
BEGIN:VEVENT
DTSTART;TZID=America/New_York:20240615T140000
DTEND;TZID=America/New_York:20240615T150000
DTSTAMP:20260425T123554
CREATED:20240529T164453Z
LAST-MODIFIED:20240529T170732Z
UID:5005-1718460000-1718463600@www.olmcelmsford.com
SUMMARY:8th Grade Graduation Day
DESCRIPTION:8th Grade
URL:https://www.olmcelmsford.com/event/graduation-day/
LOCATION:Our Lady of Mt. Carmel\, 59 East Main Street\, Elmsford\, 10523\, United States
END:VEVENT
BEGIN:VEVENT
DTSTART;TZID=America/New_York:20240614T190000
DTEND;TZID=America/New_York:20240614T200000
DTSTAMP:20260425T123554
CREATED:20240529T164956Z
LAST-MODIFIED:20240529T164956Z
UID:5016-1718391600-1718395200@www.olmcelmsford.com
SUMMARY:Kindergarten Graduation
DESCRIPTION:
URL:https://www.olmcelmsford.com/event/kindergarten-graduation-2/
LOCATION:Our Lady of Mt. Carmel\, 59 East Main Street\, Elmsford\, 10523\, United States
END:VEVENT
BEGIN:VEVENT
DTSTART;VALUE=DATE:20240614
DTEND;VALUE=DATE:20240615
DTSTAMP:20260425T123554
CREATED:20240529T165340Z
LAST-MODIFIED:20240529T165340Z
UID:5026-1718323200-1718409599@www.olmcelmsford.com
SUMMARY:Last Day of Stay N' Play
DESCRIPTION:
URL:https://www.olmcelmsford.com/event/last-day-of-stay-n-play-2/
END:VEVENT
BEGIN:VEVENT
DTSTART;VALUE=DATE:20240614
DTEND;VALUE=DATE:20240615
DTSTAMP:20260425T123554
CREATED:20240529T165050Z
LAST-MODIFIED:20240529T165050Z
UID:5018-1718323200-1718409599@www.olmcelmsford.com
SUMMARY:Last Day for PreK\, K\, Grade 8th
DESCRIPTION:
URL:https://www.olmcelmsford.com/event/last-day-for-prek-k-grade-8th/
END:VEVENT
BEGIN:VEVENT
DTSTART;TZID=America/New_York:20240613T190000
DTEND;TZID=America/New_York:20240613T220000
DTSTAMP:20260425T123554
CREATED:20240529T164910Z
LAST-MODIFIED:20240529T164910Z
UID:5014-1718305200-1718316000@www.olmcelmsford.com
SUMMARY:Bingo
DESCRIPTION:
URL:https://www.olmcelmsford.com/event/bingo-53/
LOCATION:Our Lady of Mt. Carmel\, 59 East Main Street\, Elmsford\, 10523\, United States
END:VEVENT
BEGIN:VEVENT
DTSTART;TZID=America/New_York:20240612T190000
DTEND;TZID=America/New_York:20240612T200000
DTSTAMP:20260425T123554
CREATED:20240529T164312Z
LAST-MODIFIED:20240529T164312Z
UID:5003-1718218800-1718222400@www.olmcelmsford.com
SUMMARY:Graduation Mass and Reception
DESCRIPTION:8th Grade
URL:https://www.olmcelmsford.com/event/graduation-mass-and-reception/
LOCATION:Our Lady of Mt. Carmel\, 59 East Main Street\, Elmsford\, 10523\, United States
END:VEVENT
BEGIN:VEVENT
DTSTART;TZID=America/New_York:20240612T080000
DTEND;TZID=America/New_York:20240612T093000
DTSTAMP:20260425T123554
CREATED:20240529T164759Z
LAST-MODIFIED:20240529T164759Z
UID:5010-1718179200-1718184600@www.olmcelmsford.com
SUMMARY:Pancake Breakfast
DESCRIPTION:
URL:https://www.olmcelmsford.com/event/pancake-breakfast/
END:VEVENT
BEGIN:VEVENT
DTSTART;TZID=America/New_York:20240611T100000
DTEND;TZID=America/New_York:20240611T110000
DTSTAMP:20260425T123554
CREATED:20240529T163857Z
LAST-MODIFIED:20240529T163857Z
UID:4999-1718100000-1718103600@www.olmcelmsford.com
SUMMARY:Birthday Mass
DESCRIPTION:For June\, July & August B’days
URL:https://www.olmcelmsford.com/event/birthday-mass-11/
END:VEVENT
BEGIN:VEVENT
DTSTART;TZID=America/New_York:20240607T080000
DTEND;TZID=America/New_York:20240607T120000
DTSTAMP:20260425T123554
CREATED:20240529T163738Z
LAST-MODIFIED:20240529T163738Z
UID:4997-1717747200-1717761600@www.olmcelmsford.com
SUMMARY:12pm Dismissal
DESCRIPTION:
URL:https://www.olmcelmsford.com/event/12pm-dismissal-2/
END:VEVENT
BEGIN:VEVENT
DTSTART;TZID=America/New_York:20240606T190000
DTEND;TZID=America/New_York:20240606T220000
DTSTAMP:20260425T123554
CREATED:20240529T164840Z
LAST-MODIFIED:20240529T164840Z
UID:5012-1717700400-1717711200@www.olmcelmsford.com
SUMMARY:Bingo
DESCRIPTION:
URL:https://www.olmcelmsford.com/event/bingo-52/
LOCATION:Our Lady of Mt. Carmel\, 59 East Main Street\, Elmsford\, 10523\, United States
END:VEVENT
BEGIN:VEVENT
DTSTART;TZID=America/New_York:20240604T080000
DTEND;TZID=America/New_York:20240604T143000
DTSTAMP:20260425T123554
CREATED:20240529T164221Z
LAST-MODIFIED:20240529T164724Z
UID:5001-1717488000-1717511400@www.olmcelmsford.com
SUMMARY:7th & 8th Grade Class Trip
DESCRIPTION:7th & 8th Grade Students field trip to NYC Pier 61
URL:https://www.olmcelmsford.com/event/class-trip/
END:VEVENT
BEGIN:VEVENT
DTSTART;TZID=America/New_York:20240531T080000
DTEND;TZID=America/New_York:20240531T143000
DTSTAMP:20260425T123554
CREATED:20240502T173611Z
LAST-MODIFIED:20240529T163208Z
UID:4958-1717142400-1717165800@www.olmcelmsford.com
SUMMARY:Field Day
DESCRIPTION:
URL:https://www.olmcelmsford.com/event/field-day-3/
LOCATION:Our Lady of Mt. Carmel\, 59 East Main Street\, Elmsford\, 10523\, United States
END:VEVENT
BEGIN:VEVENT
DTSTART;TZID=America/New_York:20240530T190000
DTEND;TZID=America/New_York:20240530T220000
DTSTAMP:20260425T123554
CREATED:20240502T163532Z
LAST-MODIFIED:20240502T164145Z
UID:4909-1717095600-1717106400@www.olmcelmsford.com
SUMMARY:Bingo
DESCRIPTION:
URL:https://www.olmcelmsford.com/event/bingo-51/
LOCATION:Our Lady of Mt. Carmel\, 59 East Main Street\, Elmsford\, 10523\, United States
END:VEVENT
BEGIN:VEVENT
DTSTART;TZID=America/New_York:20240530T080000
DTEND;TZID=America/New_York:20240530T143000
DTSTAMP:20260425T123554
CREATED:20240529T162948Z
LAST-MODIFIED:20240529T163622Z
UID:4994-1717056000-1717079400@www.olmcelmsford.com
SUMMARY:Color Run
DESCRIPTION:
URL:https://www.olmcelmsford.com/event/color-run-2/
LOCATION:Deluca Park\, 32-98 N Hillside Ave\, Elmsford\, NY\, 10523\, United States
END:VEVENT
BEGIN:VEVENT
DTSTART;TZID=America/New_York:20240527T080000
DTEND;TZID=America/New_York:20240527T143000
DTSTAMP:20260425T123554
CREATED:20240502T173542Z
LAST-MODIFIED:20240502T173542Z
UID:4956-1716796800-1716820200@www.olmcelmsford.com
SUMMARY:School Closed
DESCRIPTION:
URL:https://www.olmcelmsford.com/event/school-closed-10/
END:VEVENT
BEGIN:VEVENT
DTSTART;TZID=America/New_York:20240524T080000
DTEND;TZID=America/New_York:20240524T143000
DTSTAMP:20260425T123554
CREATED:20240502T172700Z
LAST-MODIFIED:20240502T173035Z
UID:4954-1716537600-1716561000@www.olmcelmsford.com
SUMMARY:School Closed
DESCRIPTION:
URL:https://www.olmcelmsford.com/event/school-closed-9/
END:VEVENT
BEGIN:VEVENT
DTSTART;TZID=America/New_York:20240523T190000
DTEND;TZID=America/New_York:20240523T220000
DTSTAMP:20260425T123554
CREATED:20240502T163506Z
LAST-MODIFIED:20240502T164128Z
UID:4907-1716490800-1716501600@www.olmcelmsford.com
SUMMARY:Bingo
DESCRIPTION:
URL:https://www.olmcelmsford.com/event/bingo-50/
LOCATION:Our Lady of Mt. Carmel\, 59 East Main Street\, Elmsford\, 10523\, United States
END:VEVENT
BEGIN:VEVENT
DTSTART;TZID=America/New_York:20240523T080000
DTEND;TZID=America/New_York:20240523T143000
DTSTAMP:20260425T123554
CREATED:20240502T172450Z
LAST-MODIFIED:20240502T172450Z
UID:4952-1716451200-1716474600@www.olmcelmsford.com
SUMMARY:Color Run
DESCRIPTION:
URL:https://www.olmcelmsford.com/event/color-run/
END:VEVENT
BEGIN:VEVENT
DTSTART;TZID=America/New_York:20240522T150000
DTEND;TZID=America/New_York:20240522T170000
DTSTAMP:20260425T123554
CREATED:20240502T172156Z
LAST-MODIFIED:20240502T172156Z
UID:4950-1716390000-1716397200@www.olmcelmsford.com
SUMMARY:Confirmation
DESCRIPTION:3pm or 5pm
URL:https://www.olmcelmsford.com/event/confirmation/
LOCATION:Our Lady of Mt. Carmel\, 59 East Main Street\, Elmsford\, 10523\, United States
END:VEVENT
BEGIN:VEVENT
DTSTART;TZID=America/New_York:20240522T080000
DTEND;TZID=America/New_York:20240522T120000
DTSTAMP:20260425T123554
CREATED:20240502T172013Z
LAST-MODIFIED:20240502T172013Z
UID:4948-1716364800-1716379200@www.olmcelmsford.com
SUMMARY:Early Dismissal NO STAY N' PLAY
DESCRIPTION:
URL:https://www.olmcelmsford.com/event/early-dismissal-no-stay-n-play/
END:VEVENT
BEGIN:VEVENT
DTSTART;TZID=America/New_York:20240521T080000
DTEND;TZID=America/New_York:20240521T090000
DTSTAMP:20260425T123554
CREATED:20240502T171916Z
LAST-MODIFIED:20240502T171916Z
UID:4946-1716278400-1716282000@www.olmcelmsford.com
SUMMARY:Student Pancake Breakfast
DESCRIPTION:
URL:https://www.olmcelmsford.com/event/student-pancake-breakfast-11/
END:VEVENT
BEGIN:VEVENT
DTSTART;TZID=America/New_York:20240520T080000
DTEND;TZID=America/New_York:20240520T143000
DTSTAMP:20260425T123554
CREATED:20240502T171823Z
LAST-MODIFIED:20240502T171823Z
UID:4944-1716192000-1716215400@www.olmcelmsford.com
SUMMARY:Dress Down
DESCRIPTION:$2
URL:https://www.olmcelmsford.com/event/dress-down-20/
END:VEVENT
BEGIN:VEVENT
DTSTART;TZID=America/New_York:20240516T190000
DTEND;TZID=America/New_York:20240516T220000
DTSTAMP:20260425T123554
CREATED:20240502T163436Z
LAST-MODIFIED:20240502T185203Z
UID:4905-1715886000-1715896800@www.olmcelmsford.com
SUMMARY:Bingo
DESCRIPTION:
URL:https://www.olmcelmsford.com/event/bingo-49/
LOCATION:Our Lady of Mt. Carmel\, 59 East Main Street\, Elmsford\, 10523\, United States
END:VEVENT
END:VCALENDAR