BEGIN:VCALENDAR
VERSION:2.0
PRODID:-//Our Lady of Mt. Carmel - ECPv6.15.20//NONSGML v1.0//EN
CALSCALE:GREGORIAN
METHOD:PUBLISH
X-ORIGINAL-URL:https://www.olmcelmsford.com
X-WR-CALDESC:Events for Our Lady of Mt. Carmel
REFRESH-INTERVAL;VALUE=DURATION:PT1H
X-Robots-Tag:noindex
X-PUBLISHED-TTL:PT1H
BEGIN:VTIMEZONE
TZID:America/New_York
BEGIN:DAYLIGHT
TZOFFSETFROM:-0500
TZOFFSETTO:-0400
TZNAME:EDT
DTSTART:20240310T070000
END:DAYLIGHT
BEGIN:STANDARD
TZOFFSETFROM:-0400
TZOFFSETTO:-0500
TZNAME:EST
DTSTART:20241103T060000
END:STANDARD
BEGIN:DAYLIGHT
TZOFFSETFROM:-0500
TZOFFSETTO:-0400
TZNAME:EDT
DTSTART:20250309T070000
END:DAYLIGHT
BEGIN:STANDARD
TZOFFSETFROM:-0400
TZOFFSETTO:-0500
TZNAME:EST
DTSTART:20251102T060000
END:STANDARD
BEGIN:DAYLIGHT
TZOFFSETFROM:-0500
TZOFFSETTO:-0400
TZNAME:EDT
DTSTART:20260308T070000
END:DAYLIGHT
BEGIN:STANDARD
TZOFFSETFROM:-0400
TZOFFSETTO:-0500
TZNAME:EST
DTSTART:20261101T060000
END:STANDARD
END:VTIMEZONE
BEGIN:VEVENT
DTSTART;VALUE=DATE:20250908
DTEND;VALUE=DATE:20250910
DTSTAMP:20260424T032215
CREATED:20250905T152710Z
LAST-MODIFIED:20250905T152710Z
UID:5574-1757289600-1757462399@www.olmcelmsford.com
SUMMARY:No PreK Classes
DESCRIPTION:
URL:https://www.olmcelmsford.com/event/no-prek-classes/
END:VEVENT
BEGIN:VEVENT
DTSTART;TZID=America/New_York:20250905T080000
DTEND;TZID=America/New_York:20250905T120000
DTSTAMP:20260424T032215
CREATED:20250905T151944Z
LAST-MODIFIED:20250905T151944Z
UID:5560-1757059200-1757073600@www.olmcelmsford.com
SUMMARY:Grades K-8
DESCRIPTION:
URL:https://www.olmcelmsford.com/event/grades-k-8/
END:VEVENT
BEGIN:VEVENT
DTSTART;TZID=America/New_York:20250905T080000
DTEND;TZID=America/New_York:20250905T110000
DTSTAMP:20260424T032215
CREATED:20250905T152009Z
LAST-MODIFIED:20250905T152009Z
UID:5562-1757059200-1757070000@www.olmcelmsford.com
SUMMARY:PreK Orientation
DESCRIPTION:
URL:https://www.olmcelmsford.com/event/prek-orientation-2/
END:VEVENT
BEGIN:VEVENT
DTSTART;TZID=America/New_York:20250904T130000
DTEND;TZID=America/New_York:20250905T170000
DTSTAMP:20260424T032215
CREATED:20250905T152046Z
LAST-MODIFIED:20250905T152046Z
UID:5564-1756990800-1757091600@www.olmcelmsford.com
SUMMARY:Faculty Meeting
DESCRIPTION:
URL:https://www.olmcelmsford.com/event/faculty-meeting/
END:VEVENT
BEGIN:VEVENT
DTSTART;TZID=America/New_York:20250904T080000
DTEND;TZID=America/New_York:20250904T110000
DTSTAMP:20260424T032215
CREATED:20250904T144925Z
LAST-MODIFIED:20250904T144925Z
UID:5540-1756972800-1756983600@www.olmcelmsford.com
SUMMARY:PreK Orientation
DESCRIPTION:
URL:https://www.olmcelmsford.com/event/prek-orientation/
END:VEVENT
BEGIN:VEVENT
DTSTART;VALUE=DATE:20250623
DTEND;VALUE=DATE:20250904
DTSTAMP:20260424T032215
CREATED:20250609T121157Z
LAST-MODIFIED:20250905T152152Z
UID:5446-1750636800-1756943999@www.olmcelmsford.com
SUMMARY:Summer Break
DESCRIPTION:
URL:https://www.olmcelmsford.com/event/summer-break/
LOCATION:Our Lady of Mt. Carmel\, 59 East Main Street\, Elmsford\, 10523\, United States
END:VEVENT
BEGIN:VEVENT
DTSTART;TZID=America/New_York:20250620T080000
DTEND;TZID=America/New_York:20250620T110000
DTSTAMP:20260424T032215
CREATED:20250609T121108Z
LAST-MODIFIED:20250609T121108Z
UID:5444-1750406400-1750417200@www.olmcelmsford.com
SUMMARY:Last Day - 11am Dismissal
DESCRIPTION:
URL:https://www.olmcelmsford.com/event/last-day-11am-dismissal/
LOCATION:Our Lady of Mt. Carmel\, 59 East Main Street\, Elmsford\, 10523\, United States
END:VEVENT
BEGIN:VEVENT
DTSTART;TZID=America/New_York:20250619T190000
DTEND;TZID=America/New_York:20250619T220000
DTSTAMP:20260424T032215
CREATED:20250609T121013Z
LAST-MODIFIED:20250609T121013Z
UID:5442-1750359600-1750370400@www.olmcelmsford.com
SUMMARY:Bingo
DESCRIPTION:
URL:https://www.olmcelmsford.com/event/bingo-71/
LOCATION:Our Lady of Mt. Carmel\, 59 East Main Street\, Elmsford\, 10523\, United States
END:VEVENT
BEGIN:VEVENT
DTSTART;VALUE=DATE:20250619
DTEND;VALUE=DATE:20250620
DTSTAMP:20260424T032215
CREATED:20250609T120936Z
LAST-MODIFIED:20250609T120936Z
UID:5440-1750291200-1750377599@www.olmcelmsford.com
SUMMARY:Holiday (Juneteenth)
DESCRIPTION:
URL:https://www.olmcelmsford.com/event/holiday-juneteenth/
END:VEVENT
BEGIN:VEVENT
DTSTART;TZID=America/New_York:20250618T100000
DTEND;TZID=America/New_York:20250618T110000
DTSTAMP:20260424T032215
CREATED:20250609T120828Z
LAST-MODIFIED:20250609T120828Z
UID:5436-1750240800-1750244400@www.olmcelmsford.com
SUMMARY:Awards Grades 1 & 2
DESCRIPTION:
URL:https://www.olmcelmsford.com/event/awards-grades-1-2/
END:VEVENT
BEGIN:VEVENT
DTSTART;VALUE=DATE:20250618
DTEND;VALUE=DATE:20250619
DTSTAMP:20260424T032215
CREATED:20250609T120854Z
LAST-MODIFIED:20250609T120854Z
UID:5438-1750204800-1750291199@www.olmcelmsford.com
SUMMARY:Last Day Breakfast & Lunch
DESCRIPTION:
URL:https://www.olmcelmsford.com/event/last-day-breakfast-lunch/
END:VEVENT
BEGIN:VEVENT
DTSTART;TZID=America/New_York:20250617T093000
DTEND;TZID=America/New_York:20250617T103000
DTSTAMP:20260424T032215
CREATED:20250609T120711Z
LAST-MODIFIED:20250609T120711Z
UID:5434-1750152600-1750156200@www.olmcelmsford.com
SUMMARY:Awards Grades 3-7
DESCRIPTION:
URL:https://www.olmcelmsford.com/event/awards-grades-3-7/
LOCATION:Our Lady of Mt. Carmel\, 59 East Main Street\, Elmsford\, 10523\, United States
END:VEVENT
BEGIN:VEVENT
DTSTART;TZID=America/New_York:20250616T080000
DTEND;TZID=America/New_York:20250620T120000
DTSTAMP:20260424T032215
CREATED:20250609T120611Z
LAST-MODIFIED:20250609T120611Z
UID:5432-1750060800-1750420800@www.olmcelmsford.com
SUMMARY:12pm Dismissal
DESCRIPTION:
URL:https://www.olmcelmsford.com/event/12pm-dismissal-4/
LOCATION:Our Lady of Mt. Carmel\, 59 East Main Street\, Elmsford\, 10523\, United States
END:VEVENT
BEGIN:VEVENT
DTSTART;TZID=America/New_York:20250616T080000
DTEND;TZID=America/New_York:20250616T143000
DTSTAMP:20260424T032215
CREATED:20250609T120532Z
LAST-MODIFIED:20250609T120532Z
UID:5430-1750060800-1750084200@www.olmcelmsford.com
SUMMARY:Dress Down
DESCRIPTION:$2
URL:https://www.olmcelmsford.com/event/dress-down-26/
LOCATION:Our Lady of Mt. Carmel\, 59 East Main Street\, Elmsford\, 10523\, United States
END:VEVENT
BEGIN:VEVENT
DTSTART;TZID=America/New_York:20250614T140000
DTEND;TZID=America/New_York:20250614T160000
DTSTAMP:20260424T032215
CREATED:20250609T120455Z
LAST-MODIFIED:20250609T120455Z
UID:5428-1749909600-1749916800@www.olmcelmsford.com
SUMMARY:8th Grade Graduation
DESCRIPTION:
URL:https://www.olmcelmsford.com/event/8th-grade-graduation-2/
LOCATION:Our Lady of Mt. Carmel\, 59 East Main Street\, Elmsford\, 10523\, United States
END:VEVENT
BEGIN:VEVENT
DTSTART;TZID=America/New_York:20250613T190000
DTEND;TZID=America/New_York:20250613T200000
DTSTAMP:20260424T032215
CREATED:20250609T120142Z
LAST-MODIFIED:20250609T120142Z
UID:5420-1749841200-1749844800@www.olmcelmsford.com
SUMMARY:Kindergarten Graduation
DESCRIPTION:
URL:https://www.olmcelmsford.com/event/kindergarten-graduation-3/
LOCATION:Our Lady of Mt. Carmel\, 59 East Main Street\, Elmsford\, 10523\, United States
END:VEVENT
BEGIN:VEVENT
DTSTART;VALUE=DATE:20250613
DTEND;VALUE=DATE:20250614
DTSTAMP:20260424T032215
CREATED:20250609T120402Z
LAST-MODIFIED:20250609T120402Z
UID:5426-1749772800-1749859199@www.olmcelmsford.com
SUMMARY:No Stay N' Play
DESCRIPTION:
URL:https://www.olmcelmsford.com/event/no-stay-n-play-4/
END:VEVENT
BEGIN:VEVENT
DTSTART;VALUE=DATE:20250613
DTEND;VALUE=DATE:20250614
DTSTAMP:20260424T032215
CREATED:20250609T120343Z
LAST-MODIFIED:20250609T120343Z
UID:5424-1749772800-1749859199@www.olmcelmsford.com
SUMMARY:Last Day (PreK\, K\, Grade 8)
DESCRIPTION:
URL:https://www.olmcelmsford.com/event/last-day-prek-k-grade-8/
LOCATION:Our Lady of Mt. Carmel\, 59 East Main Street\, Elmsford\, 10523\, United States
END:VEVENT
BEGIN:VEVENT
DTSTART;VALUE=DATE:20250613
DTEND;VALUE=DATE:20250614
DTSTAMP:20260424T032215
CREATED:20250609T120258Z
LAST-MODIFIED:20250609T120258Z
UID:5422-1749772800-1749859199@www.olmcelmsford.com
SUMMARY:Last Day to Take Religion Final
DESCRIPTION:
URL:https://www.olmcelmsford.com/event/last-day-to-take-religion-final/
END:VEVENT
BEGIN:VEVENT
DTSTART;TZID=America/New_York:20250612T190000
DTEND;TZID=America/New_York:20250612T220000
DTSTAMP:20260424T032215
CREATED:20250609T115915Z
LAST-MODIFIED:20250609T115915Z
UID:5416-1749754800-1749765600@www.olmcelmsford.com
SUMMARY:Bingo
DESCRIPTION:
URL:https://www.olmcelmsford.com/event/bingo-70/
LOCATION:Our Lady of Mt. Carmel\, 59 East Main Street\, Elmsford\, 10523\, United States
END:VEVENT
BEGIN:VEVENT
DTSTART;TZID=America/New_York:20250612T173000
DTEND;TZID=America/New_York:20250612T183000
DTSTAMP:20260424T032215
CREATED:20250609T115847Z
LAST-MODIFIED:20250609T115847Z
UID:5414-1749749400-1749753000@www.olmcelmsford.com
SUMMARY:PreK 4 Graduation
DESCRIPTION:
URL:https://www.olmcelmsford.com/event/prek-4-graduation-2/
END:VEVENT
BEGIN:VEVENT
DTSTART;VALUE=DATE:20250612
DTEND;VALUE=DATE:20250613
DTSTAMP:20260424T032215
CREATED:20250609T120038Z
LAST-MODIFIED:20250609T121514Z
UID:5418-1749686400-1749772799@www.olmcelmsford.com
SUMMARY:Ice Cream Sale
DESCRIPTION:Sponsored by PreK
URL:https://www.olmcelmsford.com/event/ice-cream-sale/
END:VEVENT
BEGIN:VEVENT
DTSTART;TZID=America/New_York:20250611T190000
DTEND;TZID=America/New_York:20250611T213000
DTSTAMP:20260424T032215
CREATED:20250609T115802Z
LAST-MODIFIED:20250609T115802Z
UID:5412-1749668400-1749677400@www.olmcelmsford.com
SUMMARY:Graduation Mass & Reception
DESCRIPTION:
URL:https://www.olmcelmsford.com/event/graduation-mass-reception-2/
END:VEVENT
BEGIN:VEVENT
DTSTART;TZID=America/New_York:20250610T100000
DTEND;TZID=America/New_York:20250610T103000
DTSTAMP:20260424T032215
CREATED:20250609T115722Z
LAST-MODIFIED:20250609T115722Z
UID:5410-1749549600-1749551400@www.olmcelmsford.com
SUMMARY:Birthday Mass
DESCRIPTION:Jun-Jul-Aug
URL:https://www.olmcelmsford.com/event/birthday-mass-16/
END:VEVENT
BEGIN:VEVENT
DTSTART;TZID=America/New_York:20250609T080000
DTEND;TZID=America/New_York:20250609T140000
DTSTAMP:20260424T032215
CREATED:20250609T121251Z
LAST-MODIFIED:20250609T121251Z
UID:5448-1749456000-1749477600@www.olmcelmsford.com
SUMMARY:Dress Down
DESCRIPTION:$2
URL:https://www.olmcelmsford.com/event/dress-down-27/
END:VEVENT
BEGIN:VEVENT
DTSTART;TZID=America/New_York:20250609T080000
DTEND;TZID=America/New_York:20250609T100000
DTSTAMP:20260424T032215
CREATED:20250609T115640Z
LAST-MODIFIED:20250609T115640Z
UID:5408-1749456000-1749463200@www.olmcelmsford.com
SUMMARY:Student Pancake Breakfast
DESCRIPTION:
URL:https://www.olmcelmsford.com/event/student-pancake-breakfast-15/
END:VEVENT
BEGIN:VEVENT
DTSTART;TZID=America/New_York:20250429T080000
DTEND;TZID=America/New_York:20250430T143000
DTSTAMP:20260424T032215
CREATED:20250414T095441Z
LAST-MODIFIED:20250414T095441Z
UID:5392-1745913600-1746023400@www.olmcelmsford.com
SUMMARY:NYS ELA Exams
DESCRIPTION:
URL:https://www.olmcelmsford.com/event/nys-ela-exams/
END:VEVENT
BEGIN:VEVENT
DTSTART;TZID=America/New_York:20250428T080000
DTEND;TZID=America/New_York:20250428T143000
DTSTAMP:20260424T032215
CREATED:20250414T095358Z
LAST-MODIFIED:20250414T095358Z
UID:5390-1745827200-1745850600@www.olmcelmsford.com
SUMMARY:Dress Down
DESCRIPTION:$2
URL:https://www.olmcelmsford.com/event/dress-down-25/
END:VEVENT
BEGIN:VEVENT
DTSTART;TZID=America/New_York:20250424T190000
DTEND;TZID=America/New_York:20250424T220000
DTSTAMP:20260424T032215
CREATED:20250410T144826Z
LAST-MODIFIED:20250410T144826Z
UID:5387-1745521200-1745532000@www.olmcelmsford.com
SUMMARY:Bingo
DESCRIPTION:
URL:https://www.olmcelmsford.com/event/bingo-69/
END:VEVENT
BEGIN:VEVENT
DTSTART;TZID=America/New_York:20250418T120000
DTEND;TZID=America/New_York:20250418T130000
DTSTAMP:20260424T032215
CREATED:20250410T144553Z
LAST-MODIFIED:20250410T144553Z
UID:5383-1744977600-1744981200@www.olmcelmsford.com
SUMMARY:Passion Pantomime
DESCRIPTION:
URL:https://www.olmcelmsford.com/event/passion-pantomime-4/
END:VEVENT
END:VCALENDAR